Package: basilisk Version: 1.23.0 Command: /home/rapidbuild/bbs-3.23-bioc-rapid/R/bin/R CMD INSTALL basilisk StartedAt: 2025-11-14 06:11:10 -0500 (Fri, 14 Nov 2025) EndedAt: 2025-11-14 06:11:14 -0500 (Fri, 14 Nov 2025) EllapsedTime: 4.0 seconds RetCode: 0 Status: OK