Package: basilisk Version: 1.23.0 Command: /home/rapidbuild/bbs-3.23-bioc-rapid/R/bin/R CMD build --keep-empty-dirs --no-resave-data basilisk StartedAt: 2025-11-14 06:33:04 -0500 (Fri, 14 Nov 2025) EndedAt: 2025-11-14 06:33:41 -0500 (Fri, 14 Nov 2025) EllapsedTime: 37.2 seconds RetCode: 0 Status: OK PackageFile: basilisk_1.23.0.tar.gz PackageFileSize: 261 KiB