Package: basilisk.utils Version: 1.23.1 Command: /home/rapidbuild/bbs-3.23-bioc-rapid/R/bin/R CMD INSTALL basilisk.utils StartedAt: 2025-11-15 06:09:03 -0500 (Sat, 15 Nov 2025) EndedAt: 2025-11-15 06:09:05 -0500 (Sat, 15 Nov 2025) EllapsedTime: 2.0 seconds RetCode: 0 Status: OK