Package: basilisk.utils Version: 1.23.1 Command: /home/rapidbuild/bbs-3.23-bioc-rapid/R/bin/R CMD build --keep-empty-dirs --no-resave-data basilisk.utils StartedAt: 2025-11-15 06:32:22 -0500 (Sat, 15 Nov 2025) EndedAt: 2025-11-15 06:32:26 -0500 (Sat, 15 Nov 2025) EllapsedTime: 4.0 seconds RetCode: 0 Status: OK PackageFile: basilisk.utils_1.23.1.tar.gz PackageFileSize: 229.6 KiB