Package: annotate Version: 1.89.0 Command: /home/rapidbuild/bbs-3.23-bioc-rapid/R/bin/R CMD INSTALL annotate StartedAt: 2025-11-15 06:15:26 -0500 (Sat, 15 Nov 2025) EndedAt: 2025-11-15 06:15:40 -0500 (Sat, 15 Nov 2025) EllapsedTime: 13.5 seconds RetCode: 0 Status: OK