Package: annotate Version: 1.89.0 Command: /home/rapidbuild/bbs-3.23-bioc-rapid/R/bin/R CMD build --keep-empty-dirs --no-resave-data annotate StartedAt: 2025-11-15 06:30:17 -0500 (Sat, 15 Nov 2025) EndedAt: 2025-11-15 06:31:11 -0500 (Sat, 15 Nov 2025) EllapsedTime: 54.5 seconds RetCode: 0 Status: OK PackageFile: annotate_1.89.0.tar.gz PackageFileSize: 1.786 MiB