Package: annotate Version: 1.89.0 Maintainer: Bioconductor Package Maintainer MaintainerEmail: maintainer at bioconductor.org git_url: https://git.bioconductor.org/packages/annotate git_branch: devel git_last_commit: a7eff2c git_last_commit_date: 2025-10-29 09:23:46 -0500 (Wed, 29 Oct 2025)