Package: alabaster.matrix Version: 1.11.0 Command: /home/rapidbuild/bbs-3.23-bioc-rapid/R/bin/R CMD INSTALL alabaster.matrix StartedAt: 2025-11-16 06:15:26 -0500 (Sun, 16 Nov 2025) EndedAt: 2025-11-16 06:15:50 -0500 (Sun, 16 Nov 2025) EllapsedTime: 23.6 seconds RetCode: 0 Status: OK