Package: alabaster.matrix Version: 1.11.0 Command: /home/rapidbuild/bbs-3.23-bioc-rapid/R/bin/R CMD build --keep-empty-dirs --no-resave-data alabaster.matrix StartedAt: 2025-11-15 06:29:02 -0500 (Sat, 15 Nov 2025) EndedAt: 2025-11-15 06:29:34 -0500 (Sat, 15 Nov 2025) EllapsedTime: 32.0 seconds RetCode: 0 Status: OK PackageFile: alabaster.matrix_1.11.0.tar.gz PackageFileSize: 274.5 KiB