Package: VisiumIO Version: 1.7.2 Maintainer: Marcel Ramos MaintainerEmail: marcel.ramos at sph.cuny.edu git_url: https://git.bioconductor.org/packages/VisiumIO git_branch: devel git_last_commit: 24aec3b git_last_commit_date: 2025-11-13 16:42:41 -0500 (Thu, 13 Nov 2025)