Package: VariantAnnotation Version: 1.57.0 Command: /home/rapidbuild/bbs-3.23-bioc-rapid/R/bin/R CMD INSTALL VariantAnnotation StartedAt: 2025-11-15 06:23:41 -0500 (Sat, 15 Nov 2025) EndedAt: 2025-11-15 06:24:40 -0500 (Sat, 15 Nov 2025) EllapsedTime: 58.6 seconds RetCode: 0 Status: OK