Package: UCSC.utils Version: 1.7.0 Command: /home/rapidbuild/bbs-3.23-bioc-rapid/R/bin/R CMD build --keep-empty-dirs --no-resave-data UCSC.utils StartedAt: 2025-11-16 07:37:33 -0500 (Sun, 16 Nov 2025) EndedAt: 2025-11-16 07:37:42 -0500 (Sun, 16 Nov 2025) EllapsedTime: 9.0 seconds RetCode: 0 Status: OK PackageFile: UCSC.utils_1.7.0.tar.gz PackageFileSize: 230.6 KiB