Package: SummarizedExperiment Version: 1.41.0 Command: /home/rapidbuild/bbs-3.23-bioc-rapid/R/bin/R CMD build --keep-empty-dirs --no-resave-data SummarizedExperiment StartedAt: 2025-11-24 07:34:47 -0500 (Mon, 24 Nov 2025) EndedAt: 2025-11-24 07:35:27 -0500 (Mon, 24 Nov 2025) EllapsedTime: 40.6 seconds RetCode: 0 Status: OK PackageFile: SummarizedExperiment_1.41.0.tar.gz PackageFileSize: 672.7 KiB