Package: SpatialExperiment Version: 1.21.0 Command: /home/rapidbuild/bbs-3.23-bioc-rapid/R/bin/R CMD INSTALL SpatialExperiment StartedAt: 2025-11-16 06:21:15 -0500 (Sun, 16 Nov 2025) EndedAt: 2025-11-16 06:21:36 -0500 (Sun, 16 Nov 2025) EllapsedTime: 20.6 seconds RetCode: 0 Status: OK