Package: SparseArray Version: 1.11.1 Command: /home/rapidbuild/bbs-3.23-bioc-rapid/R/bin/R CMD INSTALL SparseArray StartedAt: 2025-11-15 06:13:49 -0500 (Sat, 15 Nov 2025) EndedAt: 2025-11-15 06:14:17 -0500 (Sat, 15 Nov 2025) EllapsedTime: 27.9 seconds RetCode: 0 Status: OK