Package: SparseArray Version: 1.11.1 Command: /home/rapidbuild/bbs-3.23-bioc-rapid/R/bin/R CMD check --install=check:SparseArray.install-out.txt --library=/home/rapidbuild/bbs-3.23-bioc-rapid/R/site-library --timings SparseArray_1.11.1.tar.gz StartedAt: 2025-11-14 09:39:49 -0500 (Fri, 14 Nov 2025) EndedAt: 2025-11-14 09:43:20 -0500 (Fri, 14 Nov 2025) EllapsedTime: 210.9 seconds RetCode: 0 Status: OK CheckDir: SparseArray.Rcheck Warnings: 0