Package: SparseArray Version: 1.11.1 Command: /home/rapidbuild/bbs-3.23-bioc-rapid/R/bin/R CMD build --keep-empty-dirs --no-resave-data SparseArray StartedAt: 2025-11-14 07:35:37 -0500 (Fri, 14 Nov 2025) EndedAt: 2025-11-14 07:36:24 -0500 (Fri, 14 Nov 2025) EllapsedTime: 46.6 seconds RetCode: 0 Status: OK PackageFile: SparseArray_1.11.1.tar.gz PackageFileSize: 464.2 KiB