Back to Rapid builds (Linux only) of a subset of BioC 3.23
Report updated every 6 hours

This page was generated on 2025-11-14 10:17 -0500 (Fri, 14 Nov 2025).

HostnameOSArch (*)R versionInstalled pkgs
teran2Linux (Ubuntu 24.04.3 LTS)x86_64R Under development (unstable) (2025-10-28 r88973) -- "Unsuffered Consequences" 917
Click on any hostname to see more info about the system (e.g. compilers)      (*) as reported by 'uname -p', except on Windows and Mac OS X

Package 192/230HostnameOS / ArchINSTALLBUILDCHECK
S4Vectors 0.49.0  (landing page)
Hervé Pagès
Snapshot Date: 2025-11-14 06:00 -0500 (Fri, 14 Nov 2025)
git_url: https://git.bioconductor.org/packages/S4Vectors
git_branch: devel
git_last_commit: cead68c
git_last_commit_date: 2025-10-29 14:48:28 -0500 (Wed, 29 Oct 2025)
teran2Linux (Ubuntu 24.04.3 LTS) / x86_64  OK    OK    WARNINGS  


BUILD results for S4Vectors on teran2

To the developers/maintainers of the S4Vectors package:
- Use the following Renviron settings to reproduce errors and warnings.
- If 'R CMD check' started to fail recently on the Linux builder(s) over a missing dependency, add the missing dependency to 'Suggests:' in your DESCRIPTION file. See Renviron.bioc for more information.

raw results


Summary

Package: S4Vectors
Version: 0.49.0
Command: /home/rapidbuild/bbs-3.23-bioc-rapid/R/bin/R CMD build --keep-empty-dirs --no-resave-data S4Vectors
StartedAt: 2025-11-14 07:28:20 -0500 (Fri, 14 Nov 2025)
EndedAt: 2025-11-14 07:29:11 -0500 (Fri, 14 Nov 2025)
EllapsedTime: 51.3 seconds
RetCode: 0
Status:   OK  
PackageFile: S4Vectors_0.49.0.tar.gz
PackageFileSize: 820.6 KiB

Command output

##############################################################################
##############################################################################
###
### Running command:
###
###   /home/rapidbuild/bbs-3.23-bioc-rapid/R/bin/R CMD build --keep-empty-dirs --no-resave-data S4Vectors
###
##############################################################################
##############################################################################


* checking for file ‘S4Vectors/DESCRIPTION’ ... OK
* preparing ‘S4Vectors’:
* checking DESCRIPTION meta-information ... OK
* cleaning src
* installing the package (it is needed to build vignettes)
* creating vignettes ... OK
* cleaning src
* checking for LF line-endings in source and make files and shell scripts
* checking for empty or unneeded directories
* building ‘S4Vectors_0.49.0.tar.gz’