Package: Rhtslib Version: 3.7.0 Command: /home/rapidbuild/bbs-3.23-bioc-rapid/R/bin/R CMD INSTALL Rhtslib StartedAt: 2025-11-15 06:05:04 -0500 (Sat, 15 Nov 2025) EndedAt: 2025-11-15 06:06:07 -0500 (Sat, 15 Nov 2025) EllapsedTime: 63.2 seconds RetCode: 0 Status: OK