Package: Rhtslib Version: 3.7.0 Command: /home/rapidbuild/bbs-3.23-bioc-rapid/R/bin/R CMD build --keep-empty-dirs --no-resave-data Rhtslib StartedAt: 2025-11-15 07:23:32 -0500 (Sat, 15 Nov 2025) EndedAt: 2025-11-15 07:24:41 -0500 (Sat, 15 Nov 2025) EllapsedTime: 69.2 seconds RetCode: 0 Status: OK PackageFile: Rhtslib_3.7.0.tar.gz PackageFileSize: 4.91 MiB