Package: Rhdf5lib Version: 1.33.0 Command: /home/rapidbuild/bbs-3.23-bioc-rapid/R/bin/R CMD INSTALL Rhdf5lib StartedAt: 2025-11-16 06:04:33 -0500 (Sun, 16 Nov 2025) EndedAt: 2025-11-16 06:07:32 -0500 (Sun, 16 Nov 2025) EllapsedTime: 179.3 seconds RetCode: 0 Status: OK