Package: Rgraphviz Version: 2.55.0 Command: /home/rapidbuild/bbs-3.23-bioc-rapid/R/bin/R CMD INSTALL Rgraphviz StartedAt: 2025-11-15 06:10:22 -0500 (Sat, 15 Nov 2025) EndedAt: 2025-11-15 06:11:53 -0500 (Sat, 15 Nov 2025) EllapsedTime: 90.5 seconds RetCode: 0 Status: OK