Package: Rgraphviz Version: 2.55.0 Command: /home/rapidbuild/bbs-3.23-bioc-rapid/R/bin/R CMD build --keep-empty-dirs --no-resave-data Rgraphviz StartedAt: 2025-11-15 07:22:34 -0500 (Sat, 15 Nov 2025) EndedAt: 2025-11-15 07:23:58 -0500 (Sat, 15 Nov 2025) EllapsedTime: 83.2 seconds RetCode: 0 Status: OK PackageFile: Rgraphviz_2.55.0.tar.gz PackageFileSize: 7.31 MiB