Package: RProtoBufLib Version: 2.23.0 Command: /home/rapidbuild/bbs-3.23-bioc-rapid/R/bin/R CMD INSTALL RProtoBufLib StartedAt: 2025-11-14 06:06:07 -0500 (Fri, 14 Nov 2025) EndedAt: 2025-11-14 06:10:00 -0500 (Fri, 14 Nov 2025) EllapsedTime: 233.6 seconds RetCode: 0 Status: OK