Package: RProtoBufLib Version: 2.23.0 Command: /home/rapidbuild/bbs-3.23-bioc-rapid/R/bin/R CMD build --keep-empty-dirs --no-resave-data RProtoBufLib StartedAt: 2025-11-14 07:25:27 -0500 (Fri, 14 Nov 2025) EndedAt: 2025-11-14 07:29:19 -0500 (Fri, 14 Nov 2025) EllapsedTime: 232.5 seconds RetCode: 0 Status: OK PackageFile: RProtoBufLib_2.23.0.tar.gz PackageFileSize: 2.84 MiB