Package: ProtGenerics Version: 1.43.0 Command: /home/rapidbuild/bbs-3.23-bioc-rapid/R/bin/R CMD INSTALL ProtGenerics StartedAt: 2025-11-16 06:11:47 -0500 (Sun, 16 Nov 2025) EndedAt: 2025-11-16 06:11:50 -0500 (Sun, 16 Nov 2025) EllapsedTime: 3.0 seconds RetCode: 0 Status: OK