Package: ProtGenerics Version: 1.43.0 Command: /home/rapidbuild/bbs-3.23-bioc-rapid/R/bin/R CMD build --keep-empty-dirs --no-resave-data ProtGenerics StartedAt: 2025-11-15 07:18:29 -0500 (Sat, 15 Nov 2025) EndedAt: 2025-11-15 07:18:30 -0500 (Sat, 15 Nov 2025) EllapsedTime: 1.0 seconds RetCode: 0 Status: OK PackageFile: ProtGenerics_1.43.0.tar.gz PackageFileSize: 10.88 KiB