Package: MultiAssayExperiment Version: 1.37.2 Command: /home/rapidbuild/bbs-3.23-bioc-rapid/R/bin/R CMD INSTALL MultiAssayExperiment StartedAt: 2025-11-23 06:21:57 -0500 (Sun, 23 Nov 2025) EndedAt: 2025-11-23 06:22:23 -0500 (Sun, 23 Nov 2025) EllapsedTime: 25.2 seconds RetCode: 0 Status: OK