Package: MultiAssayExperiment Version: 1.37.2 Command: /home/rapidbuild/bbs-3.23-bioc-rapid/R/bin/R CMD build --keep-empty-dirs --no-resave-data MultiAssayExperiment StartedAt: 2025-11-23 07:13:57 -0500 (Sun, 23 Nov 2025) EndedAt: 2025-11-23 07:14:46 -0500 (Sun, 23 Nov 2025) EllapsedTime: 48.9 seconds RetCode: 0 Status: OK PackageFile: MultiAssayExperiment_1.37.2.tar.gz PackageFileSize: 1.319 MiB