Package: MultiAssayExperiment Version: 1.37.2 Maintainer: Marcel Ramos MaintainerEmail: marcel.ramos at sph.cuny.edu git_url: https://git.bioconductor.org/packages/MultiAssayExperiment git_branch: devel git_last_commit: b918484 git_last_commit_date: 2025-11-14 17:23:31 -0500 (Fri, 14 Nov 2025)