Package: MsCoreUtils Version: 1.23.0 Command: /home/rapidbuild/bbs-3.23-bioc-rapid/R/bin/R CMD INSTALL MsCoreUtils StartedAt: 2025-11-14 06:13:36 -0500 (Fri, 14 Nov 2025) EndedAt: 2025-11-14 06:13:41 -0500 (Fri, 14 Nov 2025) EllapsedTime: 5.0 seconds RetCode: 0 Status: OK