Package: MsCoreUtils Version: 1.23.0 Command: /home/rapidbuild/bbs-3.23-bioc-rapid/R/bin/R CMD check --install=check:MsCoreUtils.install-out.txt --library=/home/rapidbuild/bbs-3.23-bioc-rapid/R/site-library --timings MsCoreUtils_1.23.0.tar.gz StartedAt: 2025-11-20 09:05:45 -0500 (Thu, 20 Nov 2025) EndedAt: 2025-11-20 09:06:43 -0500 (Thu, 20 Nov 2025) EllapsedTime: 57.3 seconds RetCode: 1 Status: ERROR CheckDir: MsCoreUtils.Rcheck Warnings: NA