Package: MsBackendSql Version: 1.11.1 Command: /home/rapidbuild/bbs-3.23-bioc-rapid/R/bin/R CMD build --keep-empty-dirs --no-resave-data MsBackendSql StartedAt: 2025-11-15 07:12:38 -0500 (Sat, 15 Nov 2025) EndedAt: 2025-11-15 07:13:32 -0500 (Sat, 15 Nov 2025) EllapsedTime: 53.6 seconds RetCode: 0 Status: OK PackageFile: MsBackendSql_1.11.1.tar.gz PackageFileSize: 348.4 KiB