Package: MetaboCoreUtils Version: 1.19.0 Command: /home/rapidbuild/bbs-3.23-bioc-rapid/R/bin/R CMD INSTALL MetaboCoreUtils StartedAt: 2025-11-15 06:20:49 -0500 (Sat, 15 Nov 2025) EndedAt: 2025-11-15 06:20:53 -0500 (Sat, 15 Nov 2025) EllapsedTime: 4.2 seconds RetCode: 0 Status: OK