Package: MetaboCoreUtils Version: 1.19.0 Command: /home/rapidbuild/bbs-3.23-bioc-rapid/R/bin/R CMD build --keep-empty-dirs --no-resave-data MetaboCoreUtils StartedAt: 2025-11-14 07:11:19 -0500 (Fri, 14 Nov 2025) EndedAt: 2025-11-14 07:11:31 -0500 (Fri, 14 Nov 2025) EllapsedTime: 12.0 seconds RetCode: 0 Status: OK PackageFile: MetaboCoreUtils_1.19.0.tar.gz PackageFileSize: 1.278 MiB