Package: MatrixGenerics Version: 1.23.0 Command: /home/rapidbuild/bbs-3.23-bioc-rapid/R/bin/R CMD INSTALL MatrixGenerics StartedAt: 2025-11-14 06:10:18 -0500 (Fri, 14 Nov 2025) EndedAt: 2025-11-14 06:10:21 -0500 (Fri, 14 Nov 2025) EllapsedTime: 3.2 seconds RetCode: 0 Status: OK