Package: MatrixGenerics Version: 1.23.0 Command: /home/rapidbuild/bbs-3.23-bioc-rapid/R/bin/R CMD build --keep-empty-dirs --no-resave-data MatrixGenerics StartedAt: 2025-11-14 07:09:59 -0500 (Fri, 14 Nov 2025) EndedAt: 2025-11-14 07:10:00 -0500 (Fri, 14 Nov 2025) EllapsedTime: 1.0 seconds RetCode: 0 Status: OK PackageFile: MatrixGenerics_1.23.0.tar.gz PackageFileSize: 31.22 KiB