Package: MLInterfaces Version: 1.91.0 Command: /home/rapidbuild/bbs-3.23-bioc-rapid/R/bin/R CMD INSTALL MLInterfaces StartedAt: 2025-11-24 06:21:25 -0500 (Mon, 24 Nov 2025) EndedAt: 2025-11-24 06:21:49 -0500 (Mon, 24 Nov 2025) EllapsedTime: 24.0 seconds RetCode: 0 Status: OK