Package: MLInterfaces Version: 1.91.0 Command: /home/rapidbuild/bbs-3.23-bioc-rapid/R/bin/R CMD build --keep-empty-dirs --no-resave-data MLInterfaces StartedAt: 2025-11-23 07:10:38 -0500 (Sun, 23 Nov 2025) EndedAt: 2025-11-23 07:11:30 -0500 (Sun, 23 Nov 2025) EllapsedTime: 52.0 seconds RetCode: 0 Status: OK PackageFile: MLInterfaces_1.91.0.tar.gz PackageFileSize: 2.799 MiB