Package: HDF5Array Version: 1.39.0 Command: /home/rapidbuild/bbs-3.23-bioc-rapid/R/bin/R CMD INSTALL HDF5Array StartedAt: 2025-11-15 06:16:05 -0500 (Sat, 15 Nov 2025) EndedAt: 2025-11-15 06:16:22 -0500 (Sat, 15 Nov 2025) EllapsedTime: 17.4 seconds RetCode: 0 Status: OK