Package: HDF5Array Version: 1.39.0 Command: /home/rapidbuild/bbs-3.23-bioc-rapid/R/bin/R CMD build --keep-empty-dirs --no-resave-data HDF5Array StartedAt: 2025-11-15 07:04:16 -0500 (Sat, 15 Nov 2025) EndedAt: 2025-11-15 07:15:27 -0500 (Sat, 15 Nov 2025) EllapsedTime: 670.6 seconds RetCode: 0 Status: OK PackageFile: HDF5Array_1.39.0.tar.gz PackageFileSize: 7.968 MiB