Package: GenomicAlignments Version: 1.47.0 Command: /home/rapidbuild/bbs-3.23-bioc-rapid/R/bin/R CMD build --keep-empty-dirs --no-resave-data GenomicAlignments StartedAt: 2025-11-15 06:55:00 -0500 (Sat, 15 Nov 2025) EndedAt: 2025-11-15 06:56:25 -0500 (Sat, 15 Nov 2025) EllapsedTime: 84.6 seconds RetCode: 0 Status: OK PackageFile: GenomicAlignments_1.47.0.tar.gz PackageFileSize: 2.152 MiB