Package: EBarrays Version: 2.75.0 Command: /home/rapidbuild/bbs-3.23-bioc-rapid/R/bin/R CMD INSTALL EBarrays StartedAt: 2025-11-15 06:12:13 -0500 (Sat, 15 Nov 2025) EndedAt: 2025-11-15 06:12:17 -0500 (Sat, 15 Nov 2025) EllapsedTime: 4.0 seconds RetCode: 0 Status: OK