Package: EBarrays Version: 2.75.0 Command: /home/rapidbuild/bbs-3.23-bioc-rapid/R/bin/R CMD check --install=check:EBarrays.install-out.txt --library=/home/rapidbuild/bbs-3.23-bioc-rapid/R/site-library --timings EBarrays_2.75.0.tar.gz StartedAt: 2025-11-20 08:20:22 -0500 (Thu, 20 Nov 2025) EndedAt: 2025-11-20 08:21:01 -0500 (Thu, 20 Nov 2025) EllapsedTime: 38.3 seconds RetCode: 0 Status: OK CheckDir: EBarrays.Rcheck Warnings: 0