Package: EBarrays Version: 2.75.0 Command: /home/rapidbuild/bbs-3.23-bioc-rapid/R/bin/R CMD build --keep-empty-dirs --no-resave-data EBarrays StartedAt: 2025-11-15 06:44:25 -0500 (Sat, 15 Nov 2025) EndedAt: 2025-11-15 06:44:38 -0500 (Sat, 15 Nov 2025) EllapsedTime: 13.3 seconds RetCode: 0 Status: OK PackageFile: EBarrays_2.75.0.tar.gz PackageFileSize: 1.039 MiB