Package: DynDoc Version: 1.89.0 Command: /home/rapidbuild/bbs-3.23-bioc-rapid/R/bin/R CMD build --keep-empty-dirs --no-resave-data DynDoc StartedAt: 2025-11-14 06:45:04 -0500 (Fri, 14 Nov 2025) EndedAt: 2025-11-14 06:45:05 -0500 (Fri, 14 Nov 2025) EllapsedTime: 1.0 seconds RetCode: 0 Status: OK PackageFile: DynDoc_1.89.0.tar.gz PackageFileSize: 10.96 KiB