Package: DelayedMatrixStats Version: 1.33.0 Command: /home/rapidbuild/bbs-3.23-bioc-rapid/R/bin/R CMD build --keep-empty-dirs --no-resave-data DelayedMatrixStats StartedAt: 2025-11-15 06:41:06 -0500 (Sat, 15 Nov 2025) EndedAt: 2025-11-15 06:44:35 -0500 (Sat, 15 Nov 2025) EllapsedTime: 209.1 seconds RetCode: 0 Status: OK PackageFile: DelayedMatrixStats_1.33.0.tar.gz PackageFileSize: 264.4 KiB