Package: DelayedArray Version: 0.37.0 Command: /home/rapidbuild/bbs-3.23-bioc-rapid/R/bin/R CMD INSTALL DelayedArray StartedAt: 2025-11-14 06:15:22 -0500 (Fri, 14 Nov 2025) EndedAt: 2025-11-14 06:15:45 -0500 (Fri, 14 Nov 2025) EllapsedTime: 23.7 seconds RetCode: 0 Status: OK