Package: DelayedArray Version: 0.37.0 Command: _R_CHECK_CODETOOLS_PROFILE_="suppressFundefMismatch=TRUE" /home/rapidbuild/bbs-3.23-bioc-rapid/R/bin/R CMD check --install=check:DelayedArray.install-out.txt --library=/home/rapidbuild/bbs-3.23-bioc-rapid/R/site-library --timings DelayedArray_0.37.0.tar.gz StartedAt: 2025-11-15 08:10:24 -0500 (Sat, 15 Nov 2025) EndedAt: 2025-11-15 08:27:45 -0500 (Sat, 15 Nov 2025) EllapsedTime: 1040.4 seconds RetCode: 0 Status: WARNINGS CheckDir: DelayedArray.Rcheck Warnings: 1