Package: DelayedArray Version: 0.37.0 Command: /home/rapidbuild/bbs-3.23-bioc-rapid/R/bin/R CMD build --keep-empty-dirs --no-resave-data DelayedArray StartedAt: 2025-11-16 06:40:33 -0500 (Sun, 16 Nov 2025) EndedAt: 2025-11-16 06:41:20 -0500 (Sun, 16 Nov 2025) EllapsedTime: 47.3 seconds RetCode: 0 Status: OK PackageFile: DelayedArray_0.37.0.tar.gz PackageFileSize: 792.8 KiB